BEGIN:VCALENDAR
VERSION:2.0
PRODID:-//Tukios.com/
BEGIN:VEVENT
UID:ba480474-8879-4427-b6b1-c6d289f28b32@www.bakerfhvc.com
DTSTAMP:20260422T184544Z
DTSTART:20260613T160000Z
DTEND:20260613T170000Z
SUMMARY:Burial
DESCRIPTION:
URL:https://www.bakerfhvc.com/obituaries/rickey-j-weaver
LOCATION:Ravanna Cemetery 26518 US Highway 136  Princeton MO 64673
GEO:40.4547115;-93.4501501
END:VEVENT
END:VCALENDAR