BEGIN:VCALENDAR
VERSION:2.0
PRODID:-//Tukios.com/
BEGIN:VEVENT
UID:00959671-8c48-4647-96ac-2bef0f130948@www.bakerfhvc.com
DTSTAMP:20260422T190431Z
DTSTART:20260509T160000Z
DTEND:20260509T170000Z
SUMMARY:Memorial Service
DESCRIPTION:
URL:https://www.bakerfhvc.com/obituaries/goldie-robinson
LOCATION:Baker Funeral Home 100 S Cedar Ave  Valley Center KS 67147
GEO:37.8319326;-97.3770102
END:VEVENT
END:VCALENDAR