BEGIN:VCALENDAR
VERSION:2.0
PRODID:-//Tukios.com/
BEGIN:VEVENT
UID:f1a1e7a7-ae30-4fbe-ad70-1f1fc7ae34de@www.bakerfhvc.com
DTSTAMP:20260422T200309Z
DTSTART:20260502T150000Z
DTEND:20260502T160000Z
SUMMARY:Graveside Service
DESCRIPTION:
URL:https://www.bakerfhvc.com/obituaries/ella-couch-warren
LOCATION:Kechi Township Cemetery 6523 N. Hillside  Park City KS 67204
GEO:37.8031004;-97.3026477
END:VEVENT
END:VCALENDAR